BEGIN:VCALENDAR
VERSION:2.0
PRODID:-//Buckner Villas - ECPv6.15.20//NONSGML v1.0//EN
CALSCALE:GREGORIAN
METHOD:PUBLISH
X-WR-CALNAME:Buckner Villas
X-ORIGINAL-URL:https://bucknervillas.org
X-WR-CALDESC:Events for Buckner Villas
REFRESH-INTERVAL;VALUE=DURATION:PT1H
X-Robots-Tag:noindex
X-PUBLISHED-TTL:PT1H
BEGIN:VTIMEZONE
TZID:America/Chicago
BEGIN:DAYLIGHT
TZOFFSETFROM:-0600
TZOFFSETTO:-0500
TZNAME:CDT
DTSTART:20220313T080000
END:DAYLIGHT
BEGIN:STANDARD
TZOFFSETFROM:-0500
TZOFFSETTO:-0600
TZNAME:CST
DTSTART:20221106T070000
END:STANDARD
BEGIN:DAYLIGHT
TZOFFSETFROM:-0600
TZOFFSETTO:-0500
TZNAME:CDT
DTSTART:20230312T080000
END:DAYLIGHT
BEGIN:STANDARD
TZOFFSETFROM:-0500
TZOFFSETTO:-0600
TZNAME:CST
DTSTART:20231105T070000
END:STANDARD
BEGIN:DAYLIGHT
TZOFFSETFROM:-0600
TZOFFSETTO:-0500
TZNAME:CDT
DTSTART:20240310T080000
END:DAYLIGHT
BEGIN:STANDARD
TZOFFSETFROM:-0500
TZOFFSETTO:-0600
TZNAME:CST
DTSTART:20241103T070000
END:STANDARD
END:VTIMEZONE
BEGIN:VEVENT
DTSTART;TZID=America/Chicago:20230125T113000
DTEND;TZID=America/Chicago:20230125T170000
DTSTAMP:20260422T024519
CREATED:20221208T191002Z
LAST-MODIFIED:20221208T191102Z
UID:1039-1674646200-1674666000@bucknervillas.org
SUMMARY:Should I stay or should I go?
DESCRIPTION:Join us for a discussion with industry experts.\n\nWe’ll answer your questions.\nWe’ll address your concerns.\nWe’ll help you plan for your future.\n\nWe’ll help you decide.\nWhen contemplating a move\, there are so many questions to ask and knowing who to ask can be complicated. That’s why Buckner Villas has assembled a team of industry experts to help answer all your most burning questions and concerns. Join us to get the insight you need. \nJoin us for lunch with the experts!\nWednesday\, January 25 • 11:30 a.m. Buckner Villas • 11110 Tom Adams Drive\, Austin\, TX 78753 \nFeatured Panelists Include:\n\nAnne Haikola Emerald Haven Realty Top Austin-area realtor with 20+ years of experience.\nLinda Carter Life’s Next Step Rightsizing and moving expert.\nPaul Clark Buckner Villas Senior living expert with 20+ years in the industry.\n\n  \nCall 844-960-5295 or visit bucknervillas.org/events to RSVP by January 20. Seating will be limited.
URL:https://bucknervillas.org/event/should-i-stay-or-should-i-go/
LOCATION:TX
END:VEVENT
END:VCALENDAR