BEGIN:VCALENDAR
VERSION:2.0
PRODID:-//Buckner Villas - ECPv6.15.20//NONSGML v1.0//EN
CALSCALE:GREGORIAN
METHOD:PUBLISH
X-WR-CALNAME:Buckner Villas
X-ORIGINAL-URL:https://bucknervillas.org
X-WR-CALDESC:Events for Buckner Villas
REFRESH-INTERVAL;VALUE=DURATION:PT1H
X-Robots-Tag:noindex
X-PUBLISHED-TTL:PT1H
BEGIN:VTIMEZONE
TZID:America/Chicago
BEGIN:DAYLIGHT
TZOFFSETFROM:-0600
TZOFFSETTO:-0500
TZNAME:CDT
DTSTART:20220313T080000
END:DAYLIGHT
BEGIN:STANDARD
TZOFFSETFROM:-0500
TZOFFSETTO:-0600
TZNAME:CST
DTSTART:20221106T070000
END:STANDARD
BEGIN:DAYLIGHT
TZOFFSETFROM:-0600
TZOFFSETTO:-0500
TZNAME:CDT
DTSTART:20230312T080000
END:DAYLIGHT
BEGIN:STANDARD
TZOFFSETFROM:-0500
TZOFFSETTO:-0600
TZNAME:CST
DTSTART:20231105T070000
END:STANDARD
BEGIN:DAYLIGHT
TZOFFSETFROM:-0600
TZOFFSETTO:-0500
TZNAME:CDT
DTSTART:20240310T080000
END:DAYLIGHT
BEGIN:STANDARD
TZOFFSETFROM:-0500
TZOFFSETTO:-0600
TZNAME:CST
DTSTART:20241103T070000
END:STANDARD
END:VTIMEZONE
BEGIN:VEVENT
DTSTART;TZID=America/Chicago:20230322T100000
DTEND;TZID=America/Chicago:20230322T170000
DTSTAMP:20260424T081114
CREATED:20230220T153149Z
LAST-MODIFIED:20230308T180156Z
UID:1118-1679479200-1679504400@bucknervillas.org
SUMMARY:Antiques Appraisal Event
DESCRIPTION:Have your family heirloom professionally valued at our Antiques Appraisal Event by Gary Piattoni\, featured appraiser on PBS’s Antiques Roadshow for 26 seasons.\n  \nYou’re invited to bring one item for appraisal while your fellow guests listen with delight as Mr. Piattoni reveals the truth about your treasure. \n  \nWednesday \nMarch 22nd 10am and 2pm \nBuckner Villas \n1110 Tom Adams Drive \nAustin\, Tx 78753 \n  \nRSVP \nReserve a spot for yourself and a friend today. \nCall 844-960-5295 or visit bucknervillas.org/events. \n  \nJewelry\, coins\, stamps\, and firearms cannot be appraised.
URL:https://bucknervillas.org/event/antiques-appraisal-event/
LOCATION:TX
END:VEVENT
END:VCALENDAR